BEGIN:VCALENDAR
VERSION:2.0
PRODID:-//Magnifique Beauty School - ECPv4.7.0.1//NONSGML v1.0//EN
CALSCALE:GREGORIAN
METHOD:PUBLISH
X-WR-CALNAME:Magnifique Beauty School
X-ORIGINAL-URL:https://www.magnifique.com.ua
X-WR-CALDESC:Events for Magnifique Beauty School
BEGIN:VEVENT
DTSTART;TZID=UTC+3:20220222T100000
DTEND;TZID=UTC+3:20220222T160000
DTSTAMP:20260420T113556
CREATED:20220114T200825Z
LAST-MODIFIED:20220114T200825Z
UID:3064-1645524000-1645545600@www.magnifique.com.ua
SUMMARY:Курс "Нитевой лифтинг"
DESCRIPTION:
URL:https://www.magnifique.com.ua/event/%d0%ba%d1%83%d1%80%d1%81-%d0%bd%d0%b8%d1%82%d0%b5%d0%b2%d0%be%d0%b9-%d0%bb%d0%b8%d1%84%d1%82%d0%b8%d0%bd%d0%b3-11/
CATEGORIES:Курсы
END:VEVENT
END:VCALENDAR