BEGIN:VCALENDAR
VERSION:2.0
PRODID:-//Magnifique Beauty School - ECPv4.7.0.1//NONSGML v1.0//EN
CALSCALE:GREGORIAN
METHOD:PUBLISH
X-WR-CALNAME:Magnifique Beauty School
X-ORIGINAL-URL:https://www.magnifique.com.ua
X-WR-CALDESC:Events for Magnifique Beauty School
BEGIN:VEVENT
DTSTART;TZID=UTC+3:20210924T100000
DTEND;TZID=UTC+3:20210924T170000
DTSTAMP:20260424T090018
CREATED:20210804T172837Z
LAST-MODIFIED:20210804T172837Z
UID:2712-1632477600-1632502800@www.magnifique.com.ua
SUMMARY:Курс "Наращивание ресниц"
DESCRIPTION:
URL:https://www.magnifique.com.ua/event/%d0%ba%d1%83%d1%80%d1%81-%d0%bd%d0%b0%d1%80%d0%b0%d1%89%d0%b8%d0%b2%d0%b0%d0%bd%d0%b8%d0%b5-%d1%80%d0%b5%d1%81%d0%bd%d0%b8%d1%86-28/
CATEGORIES:Курсы
END:VEVENT
END:VCALENDAR