BEGIN:VCALENDAR
VERSION:2.0
PRODID:-//Magnifique Beauty School - ECPv4.7.0.1//NONSGML v1.0//EN
CALSCALE:GREGORIAN
METHOD:PUBLISH
X-WR-CALNAME:Magnifique Beauty School
X-ORIGINAL-URL:https://www.magnifique.com.ua
X-WR-CALDESC:Events for Magnifique Beauty School
BEGIN:VEVENT
DTSTART;TZID=UTC+3:20200729T100000
DTEND;TZID=UTC+3:20200729T170000
DTSTAMP:20260423T231121
CREATED:20200602T085417Z
LAST-MODIFIED:20200602T085417Z
UID:1760-1596016800-1596042000@www.magnifique.com.ua
SUMMARY:Курс "Наращивание ресниц"
DESCRIPTION:
URL:https://www.magnifique.com.ua/event/%d0%ba%d1%83%d1%80%d1%81-%d0%bd%d0%b0%d1%80%d0%b0%d1%89%d0%b8%d0%b2%d0%b0%d0%bd%d0%b8%d0%b5-%d1%80%d0%b5%d1%81%d0%bd%d0%b8%d1%86-15/
CATEGORIES:Курсы
END:VEVENT
END:VCALENDAR