BEGIN:VCALENDAR
VERSION:2.0
PRODID:-//Magnifique Beauty School - ECPv4.7.0.1//NONSGML v1.0//EN
CALSCALE:GREGORIAN
METHOD:PUBLISH
X-WR-CALNAME:Magnifique Beauty School
X-ORIGINAL-URL:https://www.magnifique.com.ua
X-WR-CALDESC:Events for Magnifique Beauty School
BEGIN:VEVENT
DTSTART;TZID=UTC+3:20191219T100000
DTEND;TZID=UTC+3:20191219T160000
DTSTAMP:20260425T130054
CREATED:20191022T075724Z
LAST-MODIFIED:20191022T081701Z
UID:974-1576749600-1576771200@www.magnifique.com.ua
SUMMARY:Курс "Микроблейдинг Powder Brows"
DESCRIPTION:
URL:https://www.magnifique.com.ua/event/%d0%ba%d1%83%d1%80%d1%81-%d0%bc%d0%b8%d0%ba%d1%80%d0%be%d0%b1%d0%bb%d0%b5%d0%b9%d0%b4%d0%b8%d0%bd%d0%b3-powder-brows-5/
CATEGORIES:Курсы
END:VEVENT
END:VCALENDAR