BEGIN:VCALENDAR
VERSION:2.0
PRODID:-//Magnifique Beauty School - ECPv4.7.0.1//NONSGML v1.0//EN
CALSCALE:GREGORIAN
METHOD:PUBLISH
X-WR-CALNAME:Magnifique Beauty School
X-ORIGINAL-URL:https://www.magnifique.com.ua
X-WR-CALDESC:Events for Magnifique Beauty School
BEGIN:VEVENT
DTSTART;TZID=UTC+3:20200122T100000
DTEND;TZID=UTC+3:20200122T160000
DTSTAMP:20260425T023819
CREATED:20191120T124316Z
LAST-MODIFIED:20200108T182207Z
UID:1057-1579687200-1579708800@www.magnifique.com.ua
SUMMARY:Курс "Методика нитевого лифтинга"
DESCRIPTION:
URL:https://www.magnifique.com.ua/event/%d0%ba%d1%83%d1%80%d1%81-%d0%bc%d0%b5%d1%82%d0%be%d0%b4%d0%b8%d0%ba%d0%b0-%d0%bd%d0%b8%d1%82%d0%b5%d0%b2%d0%be%d0%b3%d0%be-%d0%bb%d0%b8%d1%84%d1%82%d0%b8%d0%bd%d0%b3%d0%b0-7/
CATEGORIES:Курсы
END:VEVENT
END:VCALENDAR