BEGIN:VCALENDAR
VERSION:2.0
PRODID:-//Magnifique Beauty School - ECPv4.7.0.1//NONSGML v1.0//EN
CALSCALE:GREGORIAN
METHOD:PUBLISH
X-WR-CALNAME:Magnifique Beauty School
X-ORIGINAL-URL:https://www.magnifique.com.ua
X-WR-CALDESC:Events for Magnifique Beauty School
BEGIN:VEVENT
DTSTART;TZID=UTC+3:20201207T100000
DTEND;TZID=UTC+3:20201207T160000
DTSTAMP:20260423T061016
CREATED:20201017T065952Z
LAST-MODIFIED:20201017T065952Z
UID:2070-1607335200-1607356800@www.magnifique.com.ua
SUMMARY:Курс "Мезотерапия и биоревитализация"
DESCRIPTION:
URL:https://www.magnifique.com.ua/event/%d0%ba%d1%83%d1%80%d1%81-%d0%bc%d0%b5%d0%b7%d0%be%d1%82%d0%b5%d1%80%d0%b0%d0%bf%d0%b8%d1%8f-%d0%b8-%d0%b1%d0%b8%d0%be%d1%80%d0%b5%d0%b2%d0%b8%d1%82%d0%b0%d0%bb%d0%b8%d0%b7%d0%b0%d1%86%d0%b8%d1%8f-21/
CATEGORIES:Курсы
END:VEVENT
END:VCALENDAR