BEGIN:VCALENDAR
VERSION:2.0
PRODID:-//Magnifique Beauty School - ECPv4.7.0.1//NONSGML v1.0//EN
CALSCALE:GREGORIAN
METHOD:PUBLISH
X-WR-CALNAME:Magnifique Beauty School
X-ORIGINAL-URL:https://www.magnifique.com.ua
X-WR-CALDESC:Events for Magnifique Beauty School
BEGIN:VEVENT
DTSTART;TZID=UTC+3:20200422T100000
DTEND;TZID=UTC+3:20200422T143000
DTSTAMP:20260424T060629
CREATED:20200320T003915Z
LAST-MODIFIED:20200328T200752Z
UID:1557-1587549600-1587565800@www.magnifique.com.ua
SUMMARY:Вебинар "Коррекция локальных жировых отложений липолитиками"
DESCRIPTION:
URL:https://www.magnifique.com.ua/event/%d0%ba%d1%83%d1%80%d1%81-%d0%bc%d0%b5%d0%b7%d0%be%d1%82%d0%b5%d1%80%d0%b0%d0%bf%d0%b8%d1%8f-%d0%b8-%d0%b1%d0%b8%d0%be%d1%80%d0%b5%d0%b2%d0%b8%d1%82%d0%b0%d0%bb%d0%b8%d0%b7%d0%b0%d1%86%d0%b8%d1%8f-15/
CATEGORIES:Семинары
END:VEVENT
END:VCALENDAR