BEGIN:VCALENDAR
VERSION:2.0
PRODID:-//Magnifique Beauty School - ECPv4.7.0.1//NONSGML v1.0//EN
CALSCALE:GREGORIAN
METHOD:PUBLISH
X-WR-CALNAME:Magnifique Beauty School
X-ORIGINAL-URL:https://www.magnifique.com.ua
X-WR-CALDESC:Events for Magnifique Beauty School
BEGIN:VEVENT
DTSTART;TZID=UTC+3:20211125T100000
DTEND;TZID=UTC+3:20211125T170000
DTSTAMP:20260423T013210
CREATED:20211007T080626Z
LAST-MODIFIED:20211007T080626Z
UID:2878-1637834400-1637859600@www.magnifique.com.ua
SUMMARY:Курс "Мастер депиляции"
DESCRIPTION:
URL:https://www.magnifique.com.ua/event/%d0%ba%d1%83%d1%80%d1%81-%d0%bc%d0%b0%d1%81%d1%82%d0%b5%d1%80-%d0%b4%d0%b5%d0%bf%d0%b8%d0%bb%d1%8f%d1%86%d0%b8%d0%b8-23/
CATEGORIES:Курсы
END:VEVENT
END:VCALENDAR