BEGIN:VCALENDAR
VERSION:2.0
PRODID:-//Magnifique Beauty School - ECPv4.7.0.1//NONSGML v1.0//EN
CALSCALE:GREGORIAN
METHOD:PUBLISH
X-WR-CALNAME:Magnifique Beauty School
X-ORIGINAL-URL:https://www.magnifique.com.ua
X-WR-CALDESC:Events for Magnifique Beauty School
BEGIN:VEVENT
DTSTART;TZID=UTC+3:20220530T100000
DTEND;TZID=UTC+3:20220530T150000
DTSTAMP:20260422T103938
CREATED:20220513T170527Z
LAST-MODIFIED:20220513T170527Z
UID:3179-1653904800-1653922800@www.magnifique.com.ua
SUMMARY:Курс «Майстер депіляції»
DESCRIPTION:
URL:https://www.magnifique.com.ua/event/%d0%ba%d1%83%d1%80%d1%81-%d0%bc%d0%b0%d0%b9%d1%81%d1%82%d0%b5%d1%80-%d0%b4%d0%b5%d0%bf%d1%96%d0%bb%d1%8f%d1%86%d1%96%d1%97/
CATEGORIES:Курсы
END:VEVENT
END:VCALENDAR