BEGIN:VCALENDAR
VERSION:2.0
PRODID:-//Magnifique Beauty School - ECPv4.7.0.1//NONSGML v1.0//EN
CALSCALE:GREGORIAN
METHOD:PUBLISH
X-WR-CALNAME:Magnifique Beauty School
X-ORIGINAL-URL:https://www.magnifique.com.ua
X-WR-CALDESC:Events for Magnifique Beauty School
BEGIN:VEVENT
DTSTART;TZID=UTC+3:20211202T100000
DTEND;TZID=UTC+3:20211202T170000
DTSTAMP:20260423T044841
CREATED:20211105T213401Z
LAST-MODIFIED:20211105T213401Z
UID:2918-1638439200-1638464400@www.magnifique.com.ua
SUMMARY:Курс "Ламинирование и ботокс ресниц"
DESCRIPTION:
URL:https://www.magnifique.com.ua/event/%d0%ba%d1%83%d1%80%d1%81-%d0%bb%d0%b0%d0%bc%d0%b8%d0%bd%d0%b8%d1%80%d0%be%d0%b2%d0%b0%d0%bd%d0%b8%d0%b5-%d0%b8-%d0%b1%d0%be%d1%82%d0%be%d0%ba%d1%81-%d1%80%d0%b5%d1%81%d0%bd%d0%b8%d1%86-27/
CATEGORIES:Курсы
END:VEVENT
END:VCALENDAR