BEGIN:VCALENDAR
VERSION:2.0
PRODID:-//Magnifique Beauty School - ECPv4.7.0.1//NONSGML v1.0//EN
CALSCALE:GREGORIAN
METHOD:PUBLISH
X-WR-CALNAME:Magnifique Beauty School
X-ORIGINAL-URL:https://www.magnifique.com.ua
X-WR-CALDESC:Events for Magnifique Beauty School
BEGIN:VEVENT
DTSTART;TZID=UTC+3:20211026T100000
DTEND;TZID=UTC+3:20211026T170000
DTSTAMP:20260423T104330
CREATED:20210915T015821Z
LAST-MODIFIED:20210915T172842Z
UID:2809-1635242400-1635267600@www.magnifique.com.ua
SUMMARY:Курс "Лазерная эпиляция"
DESCRIPTION:
URL:https://www.magnifique.com.ua/event/%d0%ba%d1%83%d1%80%d1%81-%d0%bb%d0%b0%d0%b7%d0%b5%d1%80%d0%bd%d0%b0%d1%8f-%d1%8d%d0%bf%d0%b8%d0%bb%d1%8f%d1%86%d0%b8%d1%8f-5/
CATEGORIES:Курсы
END:VEVENT
END:VCALENDAR