BEGIN:VCALENDAR
VERSION:2.0
PRODID:-//Magnifique Beauty School - ECPv4.7.0.1//NONSGML v1.0//EN
CALSCALE:GREGORIAN
METHOD:PUBLISH
X-WR-CALNAME:Magnifique Beauty School
X-ORIGINAL-URL:https://www.magnifique.com.ua
X-WR-CALDESC:Events for Magnifique Beauty School
BEGIN:VEVENT
DTSTART;TZID=UTC+3:20220611T100000
DTEND;TZID=UTC+3:20220611T150000
DTSTAMP:20260420T073431
CREATED:20220517T141050Z
LAST-MODIFIED:20220518T111606Z
UID:3202-1654941600-1654959600@www.magnifique.com.ua
SUMMARY:Курс "Контурна пластика губ"
DESCRIPTION:
URL:https://www.magnifique.com.ua/event/%d0%ba%d1%83%d1%80%d1%81-%d0%ba%d0%be%d0%bd%d1%82%d1%83%d1%80%d0%bd%d0%b0-%d0%bf%d0%bb%d0%b0%d1%81%d1%82%d0%b8%d0%ba%d0%b0-%d0%b3%d1%83%d0%b1/
CATEGORIES:Курсы
END:VEVENT
END:VCALENDAR