BEGIN:VCALENDAR
VERSION:2.0
PRODID:-//Magnifique Beauty School - ECPv4.7.0.1//NONSGML v1.0//EN
CALSCALE:GREGORIAN
METHOD:PUBLISH
X-WR-CALNAME:Magnifique Beauty School
X-ORIGINAL-URL:https://www.magnifique.com.ua
X-WR-CALDESC:Events for Magnifique Beauty School
BEGIN:VEVENT
DTSTART;TZID=UTC+3:20210118T100000
DTEND;TZID=UTC+3:20210118T170000
DTSTAMP:20260422T225610
CREATED:20201212T113331Z
LAST-MODIFIED:20201212T113331Z
UID:2159-1610964000-1610989200@www.magnifique.com.ua
SUMMARY:Курс "Контурная пластика губ и носогубных складок"
DESCRIPTION:
URL:https://www.magnifique.com.ua/event/%d0%ba%d1%83%d1%80%d1%81-%d0%ba%d0%be%d0%bd%d1%82%d1%83%d1%80%d0%bd%d0%b0%d1%8f-%d0%bf%d0%bb%d0%b0%d1%81%d1%82%d0%b8%d0%ba%d0%b0-%d0%b3%d1%83%d0%b1-%d0%b8-%d0%bd%d0%be%d1%81%d0%be%d0%b3%d1%83%d0%b1-39/
CATEGORIES:Курсы
END:VEVENT
END:VCALENDAR