BEGIN:VCALENDAR
VERSION:2.0
PRODID:-//Magnifique Beauty School - ECPv4.7.0.1//NONSGML v1.0//EN
CALSCALE:GREGORIAN
METHOD:PUBLISH
X-WR-CALNAME:Magnifique Beauty School
X-ORIGINAL-URL:https://www.magnifique.com.ua
X-WR-CALDESC:Events for Magnifique Beauty School
BEGIN:VEVENT
DTSTART;TZID=UTC+3:20220311T100000
DTEND;TZID=UTC+3:20220311T140000
DTSTAMP:20260420T113448
CREATED:20220206T204309Z
LAST-MODIFIED:20220206T204309Z
UID:3103-1646992800-1647007200@www.magnifique.com.ua
SUMMARY:Курс "Все виды косметологических чисток"
DESCRIPTION:
URL:https://www.magnifique.com.ua/event/%d0%ba%d1%83%d1%80%d1%81-%d0%b2%d1%81%d0%b5-%d0%b2%d0%b8%d0%b4%d1%8b-%d0%ba%d0%be%d1%81%d0%bc%d0%b5%d1%82%d0%be%d0%bb%d0%be%d0%b3%d0%b8%d1%87%d0%b5%d1%81%d0%ba%d0%b8%d1%85-%d1%87%d0%b8%d1%81%d1%82-5/
CATEGORIES:Курсы
END:VEVENT
END:VCALENDAR