BEGIN:VCALENDAR
VERSION:2.0
PRODID:-//Magnifique Beauty School - ECPv4.7.0.1//NONSGML v1.0//EN
CALSCALE:GREGORIAN
METHOD:PUBLISH
X-WR-CALNAME:Magnifique Beauty School
X-ORIGINAL-URL:https://www.magnifique.com.ua
X-WR-CALDESC:Events for Magnifique Beauty School
BEGIN:VEVENT
DTSTART;TZID=UTC+3:20220624T100000
DTEND;TZID=UTC+3:20220624T150000
DTSTAMP:20260420T043220
CREATED:20220519T111402Z
LAST-MODIFIED:20220519T111402Z
UID:3229-1656064800-1656082800@www.magnifique.com.ua
SUMMARY:Курс "Ботулінотерапія"\, Варшава
DESCRIPTION:
URL:https://www.magnifique.com.ua/event/%d0%ba%d1%83%d1%80%d1%81-%d0%b1%d0%be%d1%82%d1%83%d0%bb%d1%96%d0%bd%d0%be%d1%82%d0%b5%d1%80%d0%b0%d0%bf%d1%96%d1%8f-%d0%b2%d0%b0%d1%80%d1%88%d0%b0%d0%b2%d0%b0/
CATEGORIES:Курсы
END:VEVENT
END:VCALENDAR