BEGIN:VCALENDAR
VERSION:2.0
PRODID:-//Magnifique Beauty School - ECPv4.7.0.1//NONSGML v1.0//EN
CALSCALE:GREGORIAN
METHOD:PUBLISH
X-WR-CALNAME:Magnifique Beauty School
X-ORIGINAL-URL:https://www.magnifique.com.ua
X-WR-CALDESC:Events for Magnifique Beauty School
BEGIN:VEVENT
DTSTART;TZID=UTC+3:20200722T100000
DTEND;TZID=UTC+3:20200722T170000
DTSTAMP:20260424T072221
CREATED:20200602T083202Z
LAST-MODIFIED:20200602T083202Z
UID:1744-1595412000-1595437200@www.magnifique.com.ua
SUMMARY:Курс "Ботулинотерапия"
DESCRIPTION:
URL:https://www.magnifique.com.ua/event/%d0%ba%d1%83%d1%80%d1%81-%d0%b1%d0%be%d1%82%d1%83%d0%bb%d0%b8%d0%bd%d0%be%d1%82%d0%b5%d1%80%d0%b0%d0%bf%d0%b8%d1%8f-14/
CATEGORIES:Курсы
END:VEVENT
END:VCALENDAR