BEGIN:VCALENDAR
VERSION:2.0
PRODID:-//Magnifique Beauty School - ECPv4.7.0.1//NONSGML v1.0//EN
CALSCALE:GREGORIAN
METHOD:PUBLISH
X-WR-CALNAME:Magnifique Beauty School
X-ORIGINAL-URL:https://www.magnifique.com.ua
X-WR-CALDESC:Events for Magnifique Beauty School
BEGIN:VEVENT
DTSTART;TZID=UTC+3:20201218T100000
DTEND;TZID=UTC+3:20201218T170000
DTSTAMP:20260423T015512
CREATED:20201108T084403Z
LAST-MODIFIED:20201128T084122Z
UID:2115-1608285600-1608310800@www.magnifique.com.ua
SUMMARY:Курс "Биоармирование кожи лица иглой\, канюлей и нитями"
DESCRIPTION:
URL:https://www.magnifique.com.ua/event/%d0%ba%d1%83%d1%80%d1%81-%d0%b1%d0%b8%d0%be%d0%b0%d1%80%d0%bc%d0%b8%d1%80%d0%be%d0%b2%d0%b0%d0%bd%d0%b8%d0%b5-%d0%ba%d0%be%d0%b6%d0%b8-%d0%bb%d0%b8%d1%86%d0%b0-%d0%b8%d0%b3%d0%bb%d0%be%d0%b9-%d0%ba-3/
CATEGORIES:Курсы
END:VEVENT
END:VCALENDAR