BEGIN:VCALENDAR
VERSION:2.0
PRODID:-//Magnifique Beauty School - ECPv4.7.0.1//NONSGML v1.0//EN
CALSCALE:GREGORIAN
METHOD:PUBLISH
X-WR-CALNAME:Magnifique Beauty School
X-ORIGINAL-URL:https://www.magnifique.com.ua
X-WR-CALDESC:Events for Magnifique Beauty School
BEGIN:VEVENT
DTSTART;TZID=UTC+3:20200211T100000
DTEND;TZID=UTC+3:20200211T150000
DTSTAMP:20260424T223216
CREATED:20191129T151353Z
LAST-MODIFIED:20191129T151353Z
UID:1109-1581415200-1581433200@www.magnifique.com.ua
SUMMARY:Курс "Авторский массаж"
DESCRIPTION:
URL:https://www.magnifique.com.ua/event/%d0%ba%d1%83%d1%80%d1%81-%d0%b0%d0%b2%d1%82%d0%be%d1%80%d1%81%d0%ba%d0%b8%d0%b9-%d0%bc%d0%b0%d1%81%d1%81%d0%b0%d0%b6/
CATEGORIES:Курсы
END:VEVENT
END:VCALENDAR