BEGIN:VCALENDAR
VERSION:2.0
PRODID:-//Magnifique Beauty School - ECPv4.7.0.1//NONSGML v1.0//EN
CALSCALE:GREGORIAN
METHOD:PUBLISH
X-WR-CALNAME:Magnifique Beauty School
X-ORIGINAL-URL:https://www.magnifique.com.ua
X-WR-CALDESC:Events for Magnifique Beauty School
BEGIN:VEVENT
DTSTART;TZID=UTC+3:20200521T130000
DTEND;TZID=UTC+3:20200521T150000
DTSTAMP:20260424T073652
CREATED:20200315T221043Z
LAST-MODIFIED:20200422T115632Z
UID:1535-1590066000-1590073200@www.magnifique.com.ua
SUMMARY:Вебинар "Диетология для косметологов"
DESCRIPTION:
URL:https://www.magnifique.com.ua/event/%d0%ba%d1%83%d1%80%d1%81-%d0%b0%d0%b2%d1%82%d0%be%d1%80%d1%81%d0%ba%d0%b8%d0%b9-%d0%bc%d0%b0%d1%81%d1%81%d0%b0%d0%b6-%d0%bb%d0%b8%d1%86%d0%b0-9/
CATEGORIES:Семинары
END:VEVENT
END:VCALENDAR