BEGIN:VCALENDAR
VERSION:2.0
PRODID:-//Magnifique Beauty School - ECPv4.7.0.1//NONSGML v1.0//EN
CALSCALE:GREGORIAN
METHOD:PUBLISH
X-WR-CALNAME:Magnifique Beauty School
X-ORIGINAL-URL:https://www.magnifique.com.ua
X-WR-CALDESC:Events for Magnifique Beauty School
BEGIN:VEVENT
DTSTART;TZID=UTC+3:20220506T120000
DTEND;TZID=UTC+3:20220506T143000
DTSTAMP:20260420T113350
CREATED:20220513T165045Z
LAST-MODIFIED:20220513T165045Z
UID:3152-1651838400-1651847400@www.magnifique.com.ua
SUMMARY:Вебінар «Сучасні методики терапії акне»
DESCRIPTION:
URL:https://www.magnifique.com.ua/event/%d0%b2%d0%b5%d0%b1%d1%96%d0%bd%d0%b0%d1%80-%d1%81%d1%83%d1%87%d0%b0%d1%81%d0%bd%d1%96-%d0%bc%d0%b5%d1%82%d0%be%d0%b4%d0%b8%d0%ba%d0%b8-%d1%82%d0%b5%d1%80%d0%b0%d0%bf%d1%96%d1%97-%d0%b0%d0%ba/
CATEGORIES:Семинары
END:VEVENT
END:VCALENDAR