BEGIN:VCALENDAR
VERSION:2.0
PRODID:-//Magnifique Beauty School - ECPv4.7.0.1//NONSGML v1.0//EN
CALSCALE:GREGORIAN
METHOD:PUBLISH
X-WR-CALNAME:Magnifique Beauty School
X-ORIGINAL-URL:https://www.magnifique.com.ua
X-WR-CALDESC:Events for Magnifique Beauty School
BEGIN:VEVENT
DTSTART;TZID=UTC+3:20220608T120000
DTEND;TZID=UTC+3:20220608T143000
DTSTAMP:20260420T094452
CREATED:20220517T130000Z
LAST-MODIFIED:20220517T130000Z
UID:3192-1654689600-1654698600@www.magnifique.com.ua
SUMMARY:Вебінар "Позасезонні хімічні пілінги і пілінги-біоревіталізанти"
DESCRIPTION:
URL:https://www.magnifique.com.ua/event/%d0%b2%d0%b5%d0%b1%d1%96%d0%bd%d0%b0%d1%80-%d0%bf%d0%be%d0%b7%d0%b0%d1%81%d0%b5%d0%b7%d0%be%d0%bd%d0%bd%d1%96-%d1%85%d1%96%d0%bc%d1%96%d1%87%d0%bd%d1%96-%d0%bf%d1%96%d0%bb%d1%96%d0%bd%d0%b3%d0%b8/
CATEGORIES:Семинары
END:VEVENT
END:VCALENDAR