BEGIN:VCALENDAR
VERSION:2.0
PRODID:-//Magnifique Beauty School - ECPv4.7.0.1//NONSGML v1.0//EN
CALSCALE:GREGORIAN
METHOD:PUBLISH
X-WR-CALNAME:Magnifique Beauty School
X-ORIGINAL-URL:https://www.magnifique.com.ua
X-WR-CALDESC:Events for Magnifique Beauty School
BEGIN:VEVENT
DTSTART;TZID=UTC+3:20220616T120000
DTEND;TZID=UTC+3:20220616T150000
DTSTAMP:20260420T061134
CREATED:20220518T173007Z
LAST-MODIFIED:20220518T173910Z
UID:3217-1655380800-1655391600@www.magnifique.com.ua
SUMMARY:Вебінар «Невідкладні стани та екстренна допомога в естетичній косметології та медицині»
DESCRIPTION:
URL:https://www.magnifique.com.ua/event/%d0%b2%d0%b5%d0%b1%d1%96%d0%bd%d0%b0%d1%80-%d0%bd%d0%b5%d0%b2%d1%96%d0%b4%d0%ba%d0%bb%d0%b0%d0%b4%d0%bd%d1%96-%d1%81%d1%82%d0%b0%d0%bd%d0%b8-%d1%82%d0%b0-%d0%b5%d0%ba%d1%81%d1%82%d1%80%d0%b5-2/
CATEGORIES:Семинары
END:VEVENT
END:VCALENDAR