BEGIN:VCALENDAR
VERSION:2.0
PRODID:-//Magnifique Beauty School - ECPv4.7.0.1//NONSGML v1.0//EN
CALSCALE:GREGORIAN
METHOD:PUBLISH
X-WR-CALNAME:Magnifique Beauty School
X-ORIGINAL-URL:https://www.magnifique.com.ua
X-WR-CALDESC:Events for Magnifique Beauty School
BEGIN:VEVENT
DTSTART;TZID=UTC+3:20220602T120000
DTEND;TZID=UTC+3:20220602T150000
DTSTAMP:20260420T064051
CREATED:20220517T125348Z
LAST-MODIFIED:20220517T125348Z
UID:3186-1654171200-1654182000@www.magnifique.com.ua
SUMMARY:Вебінар "Ліполітики для корекції обличчя і фігури"
DESCRIPTION:
URL:https://www.magnifique.com.ua/event/%d0%b2%d0%b5%d0%b1%d1%96%d0%bd%d0%b0%d1%80-%d0%bb%d1%96%d0%bf%d0%be%d0%bb%d1%96%d1%82%d0%b8%d0%ba%d0%b8-%d0%b4%d0%bb%d1%8f-%d0%ba%d0%be%d1%80%d0%b5%d0%ba%d1%86%d1%96%d1%97-%d0%be%d0%b1%d0%bb%d0%b8/
CATEGORIES:Семинары
END:VEVENT
END:VCALENDAR