BEGIN:VCALENDAR
VERSION:2.0
PRODID:-//Magnifique Beauty School - ECPv4.7.0.1//NONSGML v1.0//EN
CALSCALE:GREGORIAN
METHOD:PUBLISH
X-WR-CALNAME:Magnifique Beauty School
X-ORIGINAL-URL:https://www.magnifique.com.ua
X-WR-CALDESC:Events for Magnifique Beauty School
BEGIN:VEVENT
DTSTART;TZID=UTC+3:20220614T120000
DTEND;TZID=UTC+3:20220614T150000
DTSTAMP:20260420T074954
CREATED:20220517T140305Z
LAST-MODIFIED:20220517T140305Z
UID:3200-1655208000-1655218800@www.magnifique.com.ua
SUMMARY:Вебінар: "Косметичні засоби. Як читати склад препаратів"
DESCRIPTION:
URL:https://www.magnifique.com.ua/event/%d0%b2%d0%b5%d0%b1%d1%96%d0%bd%d0%b0%d1%80-%d0%ba%d0%be%d1%81%d0%bc%d0%b5%d1%82%d0%b8%d1%87%d0%bd%d1%96-%d0%b7%d0%b0%d1%81%d0%be%d0%b1%d0%b8-%d1%8f%d0%ba-%d1%87%d0%b8%d1%82%d0%b0%d1%82%d0%b8/
CATEGORIES:Семинары
END:VEVENT
END:VCALENDAR