BEGIN:VCALENDAR
VERSION:2.0
PRODID:-//Magnifique Beauty School - ECPv4.7.0.1//NONSGML v1.0//EN
CALSCALE:GREGORIAN
METHOD:PUBLISH
X-WR-CALNAME:Magnifique Beauty School
X-ORIGINAL-URL:https://www.magnifique.com.ua
X-WR-CALDESC:Events for Magnifique Beauty School
BEGIN:VEVENT
DTSTART;TZID=UTC+3:20220607T120000
DTEND;TZID=UTC+3:20220607T150000
DTSTAMP:20260420T074954
CREATED:20220518T172301Z
LAST-MODIFIED:20220518T172301Z
UID:3211-1654603200-1654614000@www.magnifique.com.ua
SUMMARY:Вебінар "Клінічна анатомія обличчя і шиї"
DESCRIPTION:
URL:https://www.magnifique.com.ua/event/%d0%b2%d0%b5%d0%b1%d1%96%d0%bd%d0%b0%d1%80-%d0%ba%d0%bb%d1%96%d0%bd%d1%96%d1%87%d0%bd%d0%b0-%d0%b0%d0%bd%d0%b0%d1%82%d0%be%d0%bc%d1%96%d1%8f-%d0%be%d0%b1%d0%bb%d0%b8%d1%87%d1%87%d1%8f-%d1%96-%d1%88/
CATEGORIES:Семинары
END:VEVENT
END:VCALENDAR