BEGIN:VCALENDAR
VERSION:2.0
PRODID:-//Magnifique Beauty School - ECPv4.7.0.1//NONSGML v1.0//EN
CALSCALE:GREGORIAN
METHOD:PUBLISH
X-WR-CALNAME:Magnifique Beauty School
X-ORIGINAL-URL:https://www.magnifique.com.ua
X-WR-CALDESC:Events for Magnifique Beauty School
BEGIN:VEVENT
DTSTART;TZID=UTC+3:20220601T120000
DTEND;TZID=UTC+3:20220601T150000
DTSTAMP:20260420T082745
CREATED:20220517T124831Z
LAST-MODIFIED:20220517T124831Z
UID:3184-1654084800-1654095600@www.magnifique.com.ua
SUMMARY:Вебінар "Всі види косметологічних чисток обличчя"
DESCRIPTION:
URL:https://www.magnifique.com.ua/event/%d0%b2%d0%b5%d0%b1%d1%96%d0%bd%d0%b0%d1%80-%d0%b2%d1%81%d1%96-%d0%b2%d0%b8%d0%b4%d0%b8-%d0%ba%d0%be%d1%81%d0%bc%d0%b5%d1%82%d0%be%d0%bb%d0%be%d0%b3%d1%96%d1%87%d0%bd%d0%b8%d1%85-%d1%87%d0%b8%d1%81/
CATEGORIES:Семинары
END:VEVENT
END:VCALENDAR