BEGIN:VCALENDAR
VERSION:2.0
PRODID:-//Magnifique Beauty School - ECPv4.7.0.1//NONSGML v1.0//EN
CALSCALE:GREGORIAN
METHOD:PUBLISH
X-WR-CALNAME:Magnifique Beauty School
X-ORIGINAL-URL:https://www.magnifique.com.ua
X-WR-CALDESC:Events for Magnifique Beauty School
BEGIN:VEVENT
DTSTART;TZID=UTC+3:20201028T130000
DTEND;TZID=UTC+3:20201028T150000
DTSTAMP:20260423T114325
CREATED:20200917T054829Z
LAST-MODIFIED:20200917T054829Z
UID:1988-1603890000-1603897200@www.magnifique.com.ua
SUMMARY:Вебинар "Современные методы терапии акне"
DESCRIPTION:
URL:https://www.magnifique.com.ua/event/%d0%b2%d0%b5%d0%b1%d0%b8%d0%bd%d0%b0%d1%80-%d1%81%d0%be%d0%b2%d1%80%d0%b5%d0%bc%d0%b5%d0%bd%d0%bd%d1%8b%d0%b5-%d0%bc%d0%b5%d1%82%d0%be%d0%b4%d1%8b-%d1%82%d0%b5%d1%80%d0%b0%d0%bf%d0%b8%d0%b8-%d0%b0-2/
CATEGORIES:Семинары
END:VEVENT
END:VCALENDAR