BEGIN:VCALENDAR
VERSION:2.0
PRODID:-//Magnifique Beauty School - ECPv4.7.0.1//NONSGML v1.0//EN
CALSCALE:GREGORIAN
METHOD:PUBLISH
X-WR-CALNAME:Magnifique Beauty School
X-ORIGINAL-URL:https://www.magnifique.com.ua
X-WR-CALDESC:Events for Magnifique Beauty School
BEGIN:VEVENT
DTSTART;TZID=UTC+3:20210309T130000
DTEND;TZID=UTC+3:20210309T160000
DTSTAMP:20260422T223112
CREATED:20210220T184818Z
LAST-MODIFIED:20210220T184818Z
UID:2338-1615294800-1615305600@www.magnifique.com.ua
SUMMARY:Вебинар "Основы косметологии. Анатомия и функции кожи."
DESCRIPTION:
URL:https://www.magnifique.com.ua/event/%d0%b2%d0%b5%d0%b1%d0%b8%d0%bd%d0%b0%d1%80-%d0%be%d1%81%d0%bd%d0%be%d0%b2%d1%8b-%d0%ba%d0%be%d1%81%d0%bc%d0%b5%d1%82%d0%be%d0%bb%d0%be%d0%b3%d0%b8%d0%b8-%d0%b0%d0%bd%d0%b0%d1%82%d0%be%d0%bc%d0%b8/
CATEGORIES:Семинары
END:VEVENT
END:VCALENDAR