BEGIN:VCALENDAR
VERSION:2.0
PRODID:-//Magnifique Beauty School - ECPv4.7.0.1//NONSGML v1.0//EN
CALSCALE:GREGORIAN
METHOD:PUBLISH
X-WR-CALNAME:Magnifique Beauty School
X-ORIGINAL-URL:https://www.magnifique.com.ua
X-WR-CALDESC:Events for Magnifique Beauty School
BEGIN:VEVENT
DTSTART;TZID=UTC+3:20210216T130000
DTEND;TZID=UTC+3:20210216T150000
DTSTAMP:20260422T211244
CREATED:20210116T214001Z
LAST-MODIFIED:20210116T214001Z
UID:2319-1613480400-1613487600@www.magnifique.com.ua
SUMMARY:Вебинар "Косметические средства. Профессионально о профессиональной косметике"
DESCRIPTION:
URL:https://www.magnifique.com.ua/event/%d0%b2%d0%b5%d0%b1%d0%b8%d0%bd%d0%b0%d1%80-%d0%ba%d0%be%d1%81%d0%bc%d0%b5%d1%82%d0%b8%d1%87%d0%b5%d1%81%d0%ba%d0%b8%d0%b5-%d1%81%d1%80%d0%b5%d0%b4%d1%81%d1%82%d0%b2%d0%b0-%d0%bf%d1%80%d0%be%d1%84-2/
CATEGORIES:Семинары
END:VEVENT
END:VCALENDAR