BEGIN:VCALENDAR
VERSION:2.0
PRODID:-//Magnifique Beauty School - ECPv4.7.0.1//NONSGML v1.0//EN
CALSCALE:GREGORIAN
METHOD:PUBLISH
X-WR-CALNAME:Magnifique Beauty School
X-ORIGINAL-URL:https://www.magnifique.com.ua
X-WR-CALDESC:Events for Magnifique Beauty School
BEGIN:VEVENT
DTSTART;TZID=UTC+3:20210414T130000
DTEND;TZID=UTC+3:20210414T160000
DTSTAMP:20260423T062518
CREATED:20210227T133131Z
LAST-MODIFIED:20210326T134556Z
UID:2371-1618405200-1618416000@www.magnifique.com.ua
SUMMARY:Вебинар "Дерматология для косметологов"
DESCRIPTION:
URL:https://www.magnifique.com.ua/event/%d0%b2%d0%b5%d0%b1%d0%b8%d0%bd%d0%b0%d1%80-%d0%b4%d0%b5%d1%80%d0%bc%d0%b0%d1%82%d0%be%d0%bb%d0%be%d0%b3%d0%b8%d1%8f-%d0%b4%d0%bb%d1%8f-%d0%ba%d0%be%d1%81%d0%bc%d0%b5%d1%82%d0%be%d0%bb%d0%be%d0%b3-3/
CATEGORIES:Семинары
END:VEVENT
END:VCALENDAR